BEGIN:VCALENDAR
VERSION:2.0
PRODID:-//wp-events-plugin.com//7.2.3.1//EN
BEGIN:VEVENT
UID:166@mail.gimnasioingles.edu.co
DTSTART;TZID=America/Bogota:20250430T080000
DTEND;TZID=America/Bogota:20250430T130000
DTSTAMP:20250409T170130Z
URL:https://mail.gimnasioingles.edu.co/events/ib-exams-begin-comienzan-los
 -examenes-del-ib/
SUMMARY:IB Exams Begin / Comienzan los exámenes del IB
DESCRIPTION:
CATEGORIES:Secondary
END:VEVENT
BEGIN:VTIMEZONE
TZID:America/Bogota
X-LIC-LOCATION:America/Bogota
BEGIN:STANDARD
DTSTART:20240430T080000
TZOFFSETFROM:-0500
TZOFFSETTO:-0500
TZNAME:-05
END:STANDARD
END:VTIMEZONE
END:VCALENDAR