BEGIN:VCALENDAR
VERSION:2.0
PRODID:-//wp-events-plugin.com//7.2.3.1//EN
BEGIN:VEVENT
UID:40@mail.gimnasioingles.edu.co
DTSTART;TZID=America/Bogota:20250813T070500
DTEND;TZID=America/Bogota:20250813T151500
DTSTAMP:20240903T162409Z
URL:https://mail.gimnasioingles.edu.co/events/first-day-of-class-for-eleme
 ntary-and-secondary-primer-dia-de-clases-para-primaria-y-secundaria/
SUMMARY:First day of class for elementary and secondary / Primer día de cl
 ases para primaría y secundaría
DESCRIPTION:
CATEGORIES:Elementary,General,Secondary
END:VEVENT
BEGIN:VTIMEZONE
TZID:America/Bogota
X-LIC-LOCATION:America/Bogota
BEGIN:STANDARD
DTSTART:20240813T070500
TZOFFSETFROM:-0500
TZOFFSETTO:-0500
TZNAME:-05
END:STANDARD
END:VTIMEZONE
END:VCALENDAR