BEGIN:VCALENDAR
VERSION:2.0
PRODID:-//wp-events-plugin.com//7.2.3.1//EN
BEGIN:VEVENT
UID:164@mail.gimnasioingles.edu.co
DTSTART;TZID=America/Bogota:20250429T080000
DTEND;TZID=America/Bogota:20250429T140000
DTSTAMP:20250409T165327Z
URL:https://mail.gimnasioingles.edu.co/events/field-trip-3-salida-pedagogi
 ca-grado-3/
SUMMARY:Field trip 3° / Salida pedagógica grado 3
DESCRIPTION:
CATEGORIES:Elementary
END:VEVENT
BEGIN:VTIMEZONE
TZID:America/Bogota
X-LIC-LOCATION:America/Bogota
BEGIN:STANDARD
DTSTART:20240429T080000
TZOFFSETFROM:-0500
TZOFFSETTO:-0500
TZNAME:-05
END:STANDARD
END:VTIMEZONE
END:VCALENDAR