BEGIN:VCALENDAR
VERSION:2.0
PRODID:-//wp-events-plugin.com//7.2.3.1//EN
BEGIN:VEVENT
UID:67@mail.gimnasioingles.edu.co
DTSTART;TZID=America/Bogota;VALUE=DATE:20240926
DTEND;TZID=America/Bogota;VALUE=DATE:20240927
DTSTAMP:20240902T205741Z
URL:https://mail.gimnasioingles.edu.co/events/day-without-cars-and-motorcy
 cles-dia-sin-carro-y-sin-moto/
SUMMARY:Day without cars and motorcycles / Día sin carro y sin moto
DESCRIPTION:
CATEGORIES:General
END:VEVENT
BEGIN:VTIMEZONE
TZID:America/Bogota
X-LIC-LOCATION:America/Bogota
BEGIN:STANDARD
DTSTART:20230927T000000
TZOFFSETFROM:-0500
TZOFFSETTO:-0500
TZNAME:-05
END:STANDARD
END:VTIMEZONE
END:VCALENDAR