BEGIN:VCALENDAR
VERSION:2.0
PRODID:-//wp-events-plugin.com//7.2.3.1//EN
BEGIN:VEVENT
UID:153@mail.gimnasioingles.edu.co
DTSTART;TZID=America/Bogota;VALUE=DATE:20250227
DTEND;TZID=America/Bogota;VALUE=DATE:20250301
DTSTAMP:20250116T135123Z
URL:http://mail.gimnasioingles.edu.co/events/mustang-fest/
SUMMARY:Mustang Fest 4th - 12th
DESCRIPTION:
CATEGORIES:General
END:VEVENT
BEGIN:VTIMEZONE
TZID:America/Bogota
X-LIC-LOCATION:America/Bogota
BEGIN:STANDARD
DTSTART:20240228T000000
TZOFFSETFROM:-0500
TZOFFSETTO:-0500
TZNAME:-05
END:STANDARD
END:VTIMEZONE
END:VCALENDAR