BEGIN:VCALENDAR
VERSION:2.0
PRODID:-//wp-events-plugin.com//7.2.3.1//EN
BEGIN:VEVENT
UID:32@mail.gimnasioingles.edu.co
DTSTART;TZID=America/Bogota;VALUE=DATE:20250501
DTEND;TZID=America/Bogota;VALUE=DATE:20250502
DTSTAMP:20240903T161033Z
URL:http://mail.gimnasioingles.edu.co/events/holiday-festivo-5/
SUMMARY:Holiday / Festivo
DESCRIPTION:
CATEGORIES:Holidays and days off
END:VEVENT
BEGIN:VTIMEZONE
TZID:America/Bogota
X-LIC-LOCATION:America/Bogota
BEGIN:STANDARD
DTSTART:20240501T000000
TZOFFSETFROM:-0500
TZOFFSETTO:-0500
TZNAME:-05
END:STANDARD
END:VTIMEZONE
END:VCALENDAR