BEGIN:VCALENDAR
VERSION:2.0
PRODID:-//wp-events-plugin.com//7.2.3.1//EN
BEGIN:VEVENT
UID:155@mail.gimnasioingles.edu.co
DTSTART;TZID=America/Bogota;VALUE=DATE:20250228
DTEND;TZID=America/Bogota;VALUE=DATE:20250301
DTSTAMP:20250116T134318Z
URL:http://mail.gimnasioingles.edu.co/events/dress-down-day/
SUMMARY:Dress down day
DESCRIPTION:
CATEGORIES:General
END:VEVENT
BEGIN:VTIMEZONE
TZID:America/Bogota
X-LIC-LOCATION:America/Bogota
BEGIN:STANDARD
DTSTART:20240229T000000
TZOFFSETFROM:-0500
TZOFFSETTO:-0500
TZNAME:-05
END:STANDARD
END:VTIMEZONE
END:VCALENDAR